BEGIN:VCALENDAR
VERSION:2.0
PRODID:-//Swanton Local School District - ECPv6.15.20//NONSGML v1.0//EN
CALSCALE:GREGORIAN
METHOD:PUBLISH
X-WR-CALNAME:Swanton Local School District
X-ORIGINAL-URL:https://swantonschools.org
X-WR-CALDESC:Events for Swanton Local School District
REFRESH-INTERVAL;VALUE=DURATION:PT1H
X-Robots-Tag:noindex
X-PUBLISHED-TTL:PT1H
BEGIN:VTIMEZONE
TZID:America/New_York
BEGIN:DAYLIGHT
TZOFFSETFROM:-0500
TZOFFSETTO:-0400
TZNAME:EDT
DTSTART:20220313T070000
END:DAYLIGHT
BEGIN:STANDARD
TZOFFSETFROM:-0400
TZOFFSETTO:-0500
TZNAME:EST
DTSTART:20221106T060000
END:STANDARD
BEGIN:DAYLIGHT
TZOFFSETFROM:-0500
TZOFFSETTO:-0400
TZNAME:EDT
DTSTART:20230312T070000
END:DAYLIGHT
BEGIN:STANDARD
TZOFFSETFROM:-0400
TZOFFSETTO:-0500
TZNAME:EST
DTSTART:20231105T060000
END:STANDARD
BEGIN:DAYLIGHT
TZOFFSETFROM:-0500
TZOFFSETTO:-0400
TZNAME:EDT
DTSTART:20240310T070000
END:DAYLIGHT
BEGIN:STANDARD
TZOFFSETFROM:-0400
TZOFFSETTO:-0500
TZNAME:EST
DTSTART:20241103T060000
END:STANDARD
BEGIN:DAYLIGHT
TZOFFSETFROM:-0500
TZOFFSETTO:-0400
TZNAME:EDT
DTSTART:20250309T070000
END:DAYLIGHT
BEGIN:STANDARD
TZOFFSETFROM:-0400
TZOFFSETTO:-0500
TZNAME:EST
DTSTART:20251102T060000
END:STANDARD
BEGIN:DAYLIGHT
TZOFFSETFROM:-0500
TZOFFSETTO:-0400
TZNAME:EDT
DTSTART:20260308T070000
END:DAYLIGHT
BEGIN:STANDARD
TZOFFSETFROM:-0400
TZOFFSETTO:-0500
TZNAME:EST
DTSTART:20261101T060000
END:STANDARD
END:VTIMEZONE
BEGIN:VEVENT
DTSTART;VALUE=DATE:20250530
DTEND;VALUE=DATE:20250531
DTSTAMP:20260421T041920
CREATED:20240715T180853Z
LAST-MODIFIED:20240715T180853Z
UID:10000812-1748563200-1748649599@swantonschools.org
SUMMARY:Last Day for Staff/Workday
DESCRIPTION:
URL:https://swantonschools.org/event/last-day-for-staff-workday-2/
CATEGORIES:District Calendar
END:VEVENT
BEGIN:VEVENT
DTSTART;VALUE=DATE:20250529
DTEND;VALUE=DATE:20250530
DTSTAMP:20260421T041920
CREATED:20240715T181623Z
LAST-MODIFIED:20240715T181623Z
UID:10000829-1748476800-1748563199@swantonschools.org
SUMMARY:SES Third Trimester Ends
DESCRIPTION:
URL:https://swantonschools.org/event/ses-third-trimester-ends-2/
CATEGORIES:District Calendar
END:VEVENT
BEGIN:VEVENT
DTSTART;VALUE=DATE:20250529
DTEND;VALUE=DATE:20250530
DTSTAMP:20260421T041920
CREATED:20240715T181520Z
LAST-MODIFIED:20240715T181520Z
UID:10000828-1748476800-1748563199@swantonschools.org
SUMMARY:SMS/SHS Second Semester Ends
DESCRIPTION:
URL:https://swantonschools.org/event/sms-shs-second-semester-ends-2/
CATEGORIES:District Calendar
END:VEVENT
BEGIN:VEVENT
DTSTART;VALUE=DATE:20250529
DTEND;VALUE=DATE:20250530
DTSTAMP:20260421T041920
CREATED:20240715T180720Z
LAST-MODIFIED:20240715T180915Z
UID:10000810-1748476800-1748563199@swantonschools.org
SUMMARY:Last Day for Students - WHOLE DAY
DESCRIPTION:
URL:https://swantonschools.org/event/last-day-for-students-whole-day-2/
CATEGORIES:District Calendar
END:VEVENT
BEGIN:VEVENT
DTSTART;VALUE=DATE:20250526
DTEND;VALUE=DATE:20250527
DTSTAMP:20260421T041920
CREATED:20240715T181055Z
LAST-MODIFIED:20240715T181055Z
UID:10000816-1748217600-1748303999@swantonschools.org
SUMMARY:School Closed - Memorial Day
DESCRIPTION:
URL:https://swantonschools.org/event/school-closed-memorial-day/
CATEGORIES:District Calendar
END:VEVENT
BEGIN:VEVENT
DTSTART;VALUE=DATE:20250430
DTEND;VALUE=DATE:20250501
DTSTAMP:20260421T041920
CREATED:20240715T181246Z
LAST-MODIFIED:20240715T181246Z
UID:10000820-1745971200-1746057599@swantonschools.org
SUMMARY:Professional Development Day - No Students
DESCRIPTION:
URL:https://swantonschools.org/event/professional-development-day-no-students-7/
CATEGORIES:District Calendar
END:VEVENT
BEGIN:VEVENT
DTSTART;VALUE=DATE:20250418
DTEND;VALUE=DATE:20250419
DTSTAMP:20260421T041920
CREATED:20240715T181343Z
LAST-MODIFIED:20240715T181343Z
UID:10000823-1744934400-1745020799@swantonschools.org
SUMMARY:No School
DESCRIPTION:
URL:https://swantonschools.org/event/no-school-6/
CATEGORIES:District Calendar
END:VEVENT
BEGIN:VEVENT
DTSTART;VALUE=DATE:20250324
DTEND;VALUE=DATE:20250329
DTSTAMP:20260421T041920
CREATED:20240715T181532Z
LAST-MODIFIED:20240715T181532Z
UID:10000827-1742774400-1743206399@swantonschools.org
SUMMARY:School Closed - Spring Break
DESCRIPTION:
URL:https://swantonschools.org/event/school-closed-spring-break-2/
CATEGORIES:District Calendar
END:VEVENT
BEGIN:VEVENT
DTSTART;VALUE=DATE:20250313
DTEND;VALUE=DATE:20250314
DTSTAMP:20260421T041920
CREATED:20240715T181358Z
LAST-MODIFIED:20240715T181358Z
UID:10000824-1741824000-1741910399@swantonschools.org
SUMMARY:SMS/SHS Third Quarter Ends
DESCRIPTION:
URL:https://swantonschools.org/event/sms-shs-third-quarter-ends-2/
CATEGORIES:District Calendar
END:VEVENT
BEGIN:VEVENT
DTSTART;TZID=America/New_York:20250227T160000
DTEND;TZID=America/New_York:20250227T200000
DTSTAMP:20260421T041920
CREATED:20240715T181701Z
LAST-MODIFIED:20240715T181701Z
UID:10000831-1740672000-1740686400@swantonschools.org
SUMMARY:*4 pm - 8 pm (5-12 Parent/Teacher Conferences)
DESCRIPTION:
URL:https://swantonschools.org/event/4-pm-8-pm-5-12-parent-teacher-conferences-2/
CATEGORIES:District Calendar
END:VEVENT
BEGIN:VEVENT
DTSTART;VALUE=DATE:20250225
DTEND;VALUE=DATE:20250226
DTSTAMP:20260421T041920
CREATED:20240715T181451Z
LAST-MODIFIED:20240715T181451Z
UID:10000826-1740441600-1740527999@swantonschools.org
SUMMARY:SES Second Trimester Ends
DESCRIPTION:
URL:https://swantonschools.org/event/ses-second-trimester-ends-2/
CATEGORIES:District Calendar
END:VEVENT
BEGIN:VEVENT
DTSTART;VALUE=DATE:20250217
DTEND;VALUE=DATE:20250218
DTSTAMP:20260421T041920
CREATED:20240715T181844Z
LAST-MODIFIED:20240715T181844Z
UID:10000832-1739750400-1739836799@swantonschools.org
SUMMARY:School Closed - Presidents' Day
DESCRIPTION:
URL:https://swantonschools.org/event/school-closed-presidents-day-2/
CATEGORIES:District Calendar
END:VEVENT
BEGIN:VEVENT
DTSTART;TZID=America/New_York:20250130T160000
DTEND;TZID=America/New_York:20250130T200000
DTSTAMP:20260421T041920
CREATED:20240715T181951Z
LAST-MODIFIED:20240715T181951Z
UID:10000833-1738252800-1738267200@swantonschools.org
SUMMARY:*4 pm - 8 pm (K-4 Parent/Teacher Conferences)
DESCRIPTION:
URL:https://swantonschools.org/event/4-pm-8-pm-k-4-parent-teacher-conferences-5/
CATEGORIES:District Calendar
END:VEVENT
BEGIN:VEVENT
DTSTART;VALUE=DATE:20241129
DTEND;VALUE=DATE:20241130
DTSTAMP:20260421T041920
CREATED:20240715T182629Z
LAST-MODIFIED:20240715T182629Z
UID:10000842-1732838400-1732924799@swantonschools.org
SUMMARY:School Closed
DESCRIPTION:
URL:https://swantonschools.org/event/school-closed-4/
CATEGORIES:District Calendar
END:VEVENT
BEGIN:VEVENT
DTSTART;VALUE=DATE:20241128
DTEND;VALUE=DATE:20241129
DTSTAMP:20260421T041920
CREATED:20240715T182551Z
LAST-MODIFIED:20240715T182551Z
UID:10000841-1732752000-1732838399@swantonschools.org
SUMMARY:School Closed - Thanksgiving
DESCRIPTION:
URL:https://swantonschools.org/event/school-closed-thanksgiving-2/
CATEGORIES:District Calendar
END:VEVENT
BEGIN:VEVENT
DTSTART;TZID=America/New_York:20240519T140000
DTEND;TZID=America/New_York:20240519T160000
DTSTAMP:20260421T041920
CREATED:20220811T185509Z
LAST-MODIFIED:20240214T160300Z
UID:10000589-1716127200-1716134400@swantonschools.org
SUMMARY:SHS Class of 2024 Graduation - SHS Gym
DESCRIPTION:
URL:https://swantonschools.org/event/shs-class-of-2023-graduation-shs-gym/
LOCATION:Swanton High School Gymnasium\, 601 N. Main Street\, Swanton\, OH\, 43558\, United States
CATEGORIES:High School
GEO:41.5939893;-83.8990096
X-APPLE-STRUCTURED-LOCATION;VALUE=URI;X-ADDRESS=Swanton High School Gymnasium 601 N. Main Street Swanton OH 43558 United States;X-APPLE-RADIUS=500;X-TITLE=601 N. Main Street:geo:-83.8990096,41.5939893
END:VEVENT
BEGIN:VEVENT
DTSTART;TZID=America/New_York:20240513T190000
DTEND;TZID=America/New_York:20240513T203000
DTSTAMP:20260421T041920
CREATED:20230607T145126Z
LAST-MODIFIED:20230607T145126Z
UID:10000761-1715626800-1715632200@swantonschools.org
SUMMARY:HS Art Show
DESCRIPTION:
URL:https://swantonschools.org/event/hs-art-show/
LOCATION:OH\, United States
CATEGORIES:Music
GEO:40.4172871;-82.907123
END:VEVENT
BEGIN:VEVENT
DTSTART;TZID=America/New_York:20240423T170000
DTEND;TZID=America/New_York:20240423T175900
DTSTAMP:20260421T041920
CREATED:20240326T191054Z
LAST-MODIFIED:20240326T191054Z
UID:10000805-1713891600-1713895140@swantonschools.org
SUMMARY:Sixth Grade Camp Meeting
DESCRIPTION:
URL:https://swantonschools.org/event/sixth-grade-camp-meeting/
CATEGORIES:Middle School
END:VEVENT
BEGIN:VEVENT
DTSTART;TZID=America/New_York:20240324T140000
DTEND;TZID=America/New_York:20240324T160000
DTSTAMP:20260421T041920
CREATED:20230607T150646Z
LAST-MODIFIED:20230607T150646Z
UID:10000767-1711288800-1711296000@swantonschools.org
SUMMARY:HS Musical
DESCRIPTION:
URL:https://swantonschools.org/event/hs-musical-6/
LOCATION:OH\, United States
CATEGORIES:Music
GEO:40.4172871;-82.907123
END:VEVENT
BEGIN:VEVENT
DTSTART;TZID=America/New_York:20240323T190000
DTEND;TZID=America/New_York:20240323T210000
DTSTAMP:20260421T041920
CREATED:20230607T150612Z
LAST-MODIFIED:20230607T151056Z
UID:10000768-1711220400-1711227600@swantonschools.org
SUMMARY:HS Musical
DESCRIPTION:
URL:https://swantonschools.org/event/hs-musical-5/2024-03-23/
LOCATION:OH\, United States
CATEGORIES:Music
GEO:40.4172871;-82.907123
END:VEVENT
BEGIN:VEVENT
DTSTART;TZID=America/New_York:20240322T190000
DTEND;TZID=America/New_York:20240322T210000
DTSTAMP:20260421T041920
CREATED:20230607T150612Z
LAST-MODIFIED:20230607T151056Z
UID:10000765-1711134000-1711141200@swantonschools.org
SUMMARY:HS Musical
DESCRIPTION:
URL:https://swantonschools.org/event/hs-musical-5/2024-03-22/
LOCATION:OH\, United States
CATEGORIES:Music
GEO:40.4172871;-82.907123
END:VEVENT
BEGIN:VEVENT
DTSTART;TZID=America/New_York:20240228T190000
DTEND;TZID=America/New_York:20240228T203000
DTSTAMP:20260421T041920
CREATED:20230607T144959Z
LAST-MODIFIED:20230607T144959Z
UID:10000760-1709146800-1709152200@swantonschools.org
SUMMARY:HS Band Concert
DESCRIPTION:
URL:https://swantonschools.org/event/hs-band-concert-3/
LOCATION:OH\, United States
CATEGORIES:Music
GEO:40.4172871;-82.907123
END:VEVENT
BEGIN:VEVENT
DTSTART;TZID=America/New_York:20240109T183000
DTEND;TZID=America/New_York:20240109T183000
DTSTAMP:20260421T041920
CREATED:20170106T161317Z
LAST-MODIFIED:20231214T155023Z
UID:10000474-1704825000-1704825000@swantonschools.org
SUMMARY:Board of Education Meeting
DESCRIPTION:Regularly scheduled January Board of Education Meeting.
URL:https://swantonschools.org/event/board-of-education-meeting-14/
LOCATION:Central Administration Office\, 108 N. Main St\, Swanton \, OH\, 43558\, United States
CATEGORIES:Board of Education Meetings
GEO:41.589309;-83.890902
X-APPLE-STRUCTURED-LOCATION;VALUE=URI;X-ADDRESS=Central Administration Office 108 N. Main St Swanton  OH 43558 United States;X-APPLE-RADIUS=500;X-TITLE=108 N. Main St:geo:-83.890902,41.589309
END:VEVENT
BEGIN:VEVENT
DTSTART;TZID=America/New_York:20231214T190000
DTEND;TZID=America/New_York:20231214T203000
DTSTAMP:20260421T041920
CREATED:20230607T144914Z
LAST-MODIFIED:20230607T144914Z
UID:10000759-1702580400-1702585800@swantonschools.org
SUMMARY:HS Band Concert
DESCRIPTION:
URL:https://swantonschools.org/event/hs-band-concert-2/
LOCATION:OH\, United States
CATEGORIES:Music
GEO:40.4172871;-82.907123
END:VEVENT
BEGIN:VEVENT
DTSTART;TZID=America/New_York:20231213T190000
DTEND;TZID=America/New_York:20231213T203000
DTSTAMP:20260421T041920
CREATED:20230607T144320Z
LAST-MODIFIED:20230607T151422Z
UID:10000757-1702494000-1702499400@swantonschools.org
SUMMARY:7th-8th Grade Band Concert
DESCRIPTION:
URL:https://swantonschools.org/event/6th-grade-band-choir-concert/
LOCATION:OH\, United States
CATEGORIES:Music
GEO:40.4172871;-82.907123
END:VEVENT
BEGIN:VEVENT
DTSTART;TZID=America/New_York:20231212T190000
DTEND;TZID=America/New_York:20231212T203000
DTSTAMP:20260421T041920
CREATED:20230607T145505Z
LAST-MODIFIED:20230607T145517Z
UID:10000764-1702407600-1702413000@swantonschools.org
SUMMARY:6th Grade Band/Choir Holiday Concert
DESCRIPTION:
URL:https://swantonschools.org/event/6th-grade-band-choir-holiday-concert/
LOCATION:OH\, United States
CATEGORIES:Music
GEO:40.4172871;-82.907123
END:VEVENT
BEGIN:VEVENT
DTSTART;TZID=America/New_York:20231211T190000
DTEND;TZID=America/New_York:20231211T203000
DTSTAMP:20260421T041920
CREATED:20230607T145354Z
LAST-MODIFIED:20230607T145354Z
UID:10000763-1702321200-1702326600@swantonschools.org
SUMMARY:7th/8th Grade Choir Holiday Concert
DESCRIPTION:
URL:https://swantonschools.org/event/7th-8th-grade-choir-holiday-concert/
LOCATION:OH\, United States
CATEGORIES:Music
GEO:40.4172871;-82.907123
END:VEVENT
BEGIN:VEVENT
DTSTART;TZID=America/New_York:20231210T140000
DTEND;TZID=America/New_York:20231210T153000
DTSTAMP:20260421T041920
CREATED:20230607T145249Z
LAST-MODIFIED:20230607T145249Z
UID:10000762-1702216800-1702222200@swantonschools.org
SUMMARY:HS Cabaret/Choir Christmas Concert
DESCRIPTION:
URL:https://swantonschools.org/event/hs-cabaret-choir-christmas-concert/
LOCATION:OH\, United States
CATEGORIES:Music
GEO:40.4172871;-82.907123
END:VEVENT
BEGIN:VEVENT
DTSTART;TZID=America/New_York:20231006T110000
DTEND;TZID=America/New_York:20231006T130000
DTSTAMP:20260421T041920
CREATED:20230607T143936Z
LAST-MODIFIED:20230607T143936Z
UID:10000754-1696590000-1696597200@swantonschools.org
SUMMARY:SHS Picture Retakes
DESCRIPTION:
URL:https://swantonschools.org/event/shs-picture-retakes/
LOCATION:OH\, United States
CATEGORIES:High School
GEO:40.4172871;-82.907123
END:VEVENT
BEGIN:VEVENT
DTSTART;TZID=America/New_York:20230909T170000
DTEND;TZID=America/New_York:20230909T220000
DTSTAMP:20260421T041920
CREATED:20230607T144211Z
LAST-MODIFIED:20230607T144211Z
UID:10000756-1694278800-1694296800@swantonschools.org
SUMMARY:Bulldog Bowl
DESCRIPTION:
URL:https://swantonschools.org/event/bulldog-bowl/
LOCATION:OH\, United States
CATEGORIES:Music
GEO:40.4172871;-82.907123
END:VEVENT
END:VCALENDAR